BEGIN:VCALENDAR
VERSION:2.0
METHOD:PUBLISH
PRODID:-//hacksw/handcal//NONSGML v1.0//EN
BEGIN:VEVENT
DTSTAMP:20260422T105055Z
DTSTART:20240202T183000Z
DTEND:20240202T225900Z
UID:20240202T183000Z-20240202T225900Z-276@www.mjive.de
SUMMARY:M.Jive goes Weisse Feste 2024
DESCRIPTION:Erinnert Ihr Euch noch? Früher sind M.Jiver nicht nur zum 
 Tanzen in die Max-E gekommen. Ein anderer Grund waren die legendären W
 eissen Feste. Die finden nun endlich auch wieder statt - allerdings am
  anderen Ort zentral gelegen in der Isarpost (Sonnenstraße 24-26).\n\n
 Am Freitag\, 2.2.24 wollen wir dort vorbeischauen\, die ersten M.Jiver
  haben ihr Ticket schon gekauft. Wir treffen uns drinnen vor Ort.\n\nE
 intrittskarten gibt es im Vorverkauf für knappe 24 € online: www.weiss
 efeste.de\n\nFür einen Rabatt für M.Jiver beobachtet und antwortet bit
 te auf unseren Newsletter:\n\n\nSchicke formlos eine Mail an info@mjive.de und sei immer gut 
 informiert\n\n
X-ALT-DESC;FMTTYPE=text/html:<p>Erinnert Ihr Euch noch? Früher sind M.
 Jiver nicht nur zum Tanzen in die Max-E gekommen. Ein anderer Grund wa
 ren die legendären Weissen Feste. Die finden nun endlich auch wieder s
 tatt &#8211\; allerdings am anderen Ort zentral gelegen in der Isarpos
 t (Sonnenstraße 24-26).</p>\n<p>Am Freitag\, 2.2.24 wollen wir dort vo
 rbeischauen\, die ersten M.Jiver haben ihr Ticket schon gekauft. Wir t
 reffen uns drinnen vor Ort.</p>\n<p>Eintrittskarten gibt es im Vorverk
 auf für knappe 24 € online: <a href=https://www.weissefeste.de>www.wei
 ssefeste.de</a></p>\n<p>Für einen Rabatt für M.Jiver beobachtet und an
 twortet bitte auf unseren Newsletter:</p>\n<p>\n<div style=height:180p
 x\;><h2 class= has-text-align-center has-theme-palette-9-color has-tex
 t-color wp-block-heading>Schicke formlos eine Mail an info@mjive.de un
 d sei immer gut informiert</h2></div>\n<!--<form style=border:0px soli
 d #ccc\;padding:3px\;text-align:left\; action=https://tinyletter.com/m
 jive method=post target=popupwindow onsubmit=window.open('https://tiny
 letter.com/mjive'\, 'popupwindow'\, 'scrollbars=yes\,width=800\,height
 =600')\;return true><p style=display:none><label for=tlemail>Enter you
 r email address</label></p><p><input type=text style=width:200px name=
 email placeholder=Deine Email id=tlemail></p><input type=hidden value=
 1 name=embed><input type=submit value=Zum Newsletter anmelden><p><a hr
 ef=https://tinyletter.com target=_blank rel=noopener>powered by TinyLe
 tter</a></p></form>-->\n</p>\n
URL:https://www.mjive.de/event/mjive-goes-weisse-feste-2024/?lang=de
ATTACH:https://www.mjive.de/event/mjive-goes-weisse-feste-2024/?lang=d
 e
ATTACH:https://www.mjive.de/wp-content/uploads/2023/02/20230210_201841
 -150x150.webp
LOCATION:Isarpost\, Sonnenstraße 24-26\, München
END:VEVENT
END:VCALENDAR
