BEGIN:VCALENDAR
VERSION:2.0
METHOD:PUBLISH
PRODID:-//hacksw/handcal//NONSGML v1.0//EN
BEGIN:VEVENT
DTSTAMP:20260421T183854Z
DTSTART:20231111T180000Z
DTEND:20231111T233000Z
UID:20231111T180000Z-20231111T233000Z-215@www.mjive.de
SUMMARY:Jubiläumsparty 15 Jahre M.Jive
DESCRIPTION:Zu unserem 15. Geburtstag wollen wir den Tag mit einer gro
 ßen Jubiläumsparty ausklingen lassen.\nBuffet\nEs gibt ein reichhaltig
 es Vorspeisen-Buffet sowie einen Hauptgang nach Wahl (bitte bei der An
 meldung angeben):\n\n 	Geschmorter Kalbstafelspitz in Gemüserahm mit T
 iroler Knödel\n 	Gemüselasagne mit herbstlichen frischen Gemüsen\n\nEi
 n Abend zum Mitgestalten\nDress-Code\nElegant\, Dress-to-Impress oder 
 dein ganz persönlicher Style - überleg dir\, wie du diesen Abend unver
 gesslich werden lassen kannst.\nMusikwunsch\nGibt es einen Song\, zu d
 em ihr immer schon einmal tanzen wolltet? Eine Stunde lang spielen wir
  am Abend eure Musikwünsche\, die ihr uns bitte schon vorher zusendet\
 , damit wir die Playlist entsprechend vorbereiten können: info@mjive.d
 e (Betreff: Musikwunsch)\nCommunity Dessert\nWir freuen uns\, wenn der
  eine oder andere einen Nachtisch oder Kuchen mitbringen möchte. Schre
 ibt uns für die Planung bitte euren Vorschlag: info@mjive.de (Betreff:
  Dessertvorschlag)\nPreise\nBuffet + Party\nWer auch an dem Buffet tei
 lnehmen will\, kann auf dem Anmeldeformular das Paket 4: Buffet + Part
 y (30 €) buchen.\nParty (ohne Buffet)\nEintritt 10 € an der Abendkasse
 . Keine Anmeldung erforderlich.\nAblauf\n\n18:30Einlass19:00Eröffnung Buffet + Musik
 /Social Dancing20:00Community Dessert + Cheers to 15 Years22:00W
 unsch-Musik-Stundeca. 00:30Ende\
 n
X-ALT-DESC;FMTTYPE=text/html:<p>Zu unserem 15. Geburtstag wollen wir d
 en Tag mit einer großen <strong>Jubiläumsparty</strong> ausklingen las
 sen.</p>\n<h3>Buffet</h3>\n<p>Es gibt ein reichhaltiges <strong>Vorspe
 isen-Buffet</strong> sowie einen <strong>Hauptgang</strong> nach Wahl 
 (bitte <a href=https://www.mjive.de/event/mjive-jubilaeums-workshop-20
 23#Anmeldung>bei der Anmeldung</a> angeben):</p>\n<ul>\n<li>Geschmorte
 r Kalbstafelspitz in Gemüserahm mit Tiroler Knödel</li>\n<li>Gemüselas
 agne mit herbstlichen frischen Gemüsen</li>\n</ul>\n<h3>Ein Abend zum 
 Mitgestalten</h3>\n<h4>Dress-Code</h4>\n<p>Elegant\, Dress-to-Impress 
 oder dein ganz persönlicher Style &#8211\; überleg dir\, wie du diesen
  Abend unvergesslich werden lassen kannst.</p>\n<h4>Musikwunsch</h4>\n
 <p>Gibt es einen Song\, zu dem ihr immer schon einmal tanzen wolltet? 
 Eine Stunde lang spielen wir am Abend eure Musikwünsche\, die ihr uns 
 bitte schon vorher zusendet\, damit wir die Playlist entsprechend vorb
 ereiten können: <a href=mailto:info@mjive.de>info@mjive.de</a> (Betref
 f: &#8220\;Musikwunsch&#8221\;)</p>\n<h4>Community Dessert</h4>\n<p>Wi
 r freuen uns\, wenn der eine oder andere einen Nachtisch oder Kuchen m
 itbringen möchte. Schreibt uns für die Planung bitte euren Vorschlag: 
 <a href=mailto:info@mjive.de>info@mjive.de</a> (Betreff: &#8220\;Desse
 rtvorschlag&#8221\;)</p>\n<h3>Preise</h3>\n<h4>Buffet + Party</h4>\n<p
 >Wer auch an dem Buffet teilnehmen will\, kann auf dem <a href=https:/
 /www.mjive.de/event/mjive-jubilaeums-workshop-2023#Anmeldung>Anmeldefo
 rmular</a> das &#8220\;<strong>Paket 4: Buffet + Party</strong>&#8221\
 ; (30 €) buchen.</p>\n<h4>Party (ohne Buffet)</h4>\n<p>Eintritt 10 € a
 n der Abendkasse. Keine Anmeldung erforderlich.</p>\n<h3>Ablauf</h3>\n
 <p>\n<figure class=wp-block-table is-style-stripes><table><tbody><tr><
 td class=has-text-align-center data-align=center>18:30</td><td>Einlass
 </td></tr><tr><td class=has-text-align-center data-align=center>19:00<
 /td><td>Eröffnung Buffet + Musik/Social Dancing</td></tr><tr><td class
 =has-text-align-center data-align=center>20:00</td><td>Community Desse
 rt + Cheers to 15 Years</td></tr><tr><td class=has-text-align-center d
 ata-align=center>22:00</td><td>Wunsch-Musik-Stunde</td></tr><tr><td cl
 ass=has-text-align-center data-align=center>ca. 00:30</td><td>Ende</td
 ></tr></tbody></table></figure>\n</p>\n<h3></h3>\n<h4></h4>\n
URL:https://www.mjive.de/event/jubilaeumsparty-15-jahre-mjive/?lang=de
ATTACH:https://www.mjive.de/event/jubilaeumsparty-15-jahre-mjive/?lang
 =de
ATTACH:https://www.mjive.de/wp-content/uploads/2023/10/m-jive-birthday
 -party-150x150.webp
LOCATION:Tanzschule Klaus Sennebogen\, Karlstr. 44\, München
END:VEVENT
END:VCALENDAR
