BEGIN:VCALENDAR
VERSION:2.0
METHOD:PUBLISH
PRODID:-//hacksw/handcal//NONSGML v1.0//EN
BEGIN:VEVENT
DTSTAMP:20260423T090317Z
DTSTART:20231111T130000Z
DTEND:20231111T170000Z
UID:20231111T130000Z-20231111T170000Z-214@www.mjive.de
SUMMARY:M.Jive Jubiläums-Workshop 2023
DESCRIPTION:Take Your Dance to the Next Level!\n\n\nNoch ein paar Work
 shopplätze sind frei!\nJetzt noch schnell anmelden.\nWir achten auf ei
 n ausgeglichenes Verhältnis der Rollen.\nAnmeldungen zu Buffet und Par
 ty sind unbegrenzt möglich.\nDirekt zum Anmeldeformular\nM.Jive wird 1
 5 Jahre alt - das wollen wir auch mit einem Jubiläums-Workshop feiern.
  Wir planen mehrere Kursblöcke\, die euch dabei helfen werden\, eine b
 essere Kommunikation mit dem Tanzpartner zu entwickeln\, eure Führungs
 - und Folgefähigkeiten zu verbessern und damit noch mehr Freude auf de
 r Tanzfläche zu erleben\n\nFreut euch auf die folgenden Themen:\n\n 	M
 usikalität\n 	Körperbewusstsein inkl. Spins\n 	Styling\n 	Fusion-Moves
 \n\nGrundsätzlich werden wir darauf achten\, dass für jedes Level etwa
 s Neues dabei ist. Der Workshop ist aber kein Anfängerkurs. Wer mit Mo
 dern Jive und den Grundfiguren noch nicht vertraut ist\, sollte vorher
  an mehreren Montags-Tanzabenden mit Anfänger- und Intensivierungsstun
 de teilgenommen haben.\n\nZur Tanzlehrerin\n\n\n\nHeidi Grillmeier leb
 t und tanzt seit mehr als 8 Jahren in der Schweiz. Beeinflusst von ver
 schiedenen Stilrichtungen u.a. Disco Swing\, West Coast Swing\, Latin 
 und Blues Dance\, unterstützt sie aktiv die Ceroc und LeRoc Szene in Z
 ürich. Vielen M.Jivern ist sie noch gut bekannt\, denn bis 2015 stand 
 sie auch bei uns in München als Lehrerin auf der Bühne. Wir freuen uns
  sehr darauf\, dass sie uns nun die neuesten Trends in Sachen Tanz und
  Musik aus der Schweiz mitbringt. Auf dem October DanceFest 2023 Berli
 n hat sie in der Kategorie DWAS (Dance with a Stranger) gewonnen und z
 usammen mit Olaf den 2. Platz in Advanced belegt. \nWorkshop-Zeitplan\
 n\n\n<
 td>13:30 &#8211\; 14:00Einlass: Umziehen &#8211\; Getränke ho
 len &#8211\; Eintanzen14:00 &#8211\; 18:00W
 orkshop inkl. Pausen18:00Ende Workshop: Get
 ränke an der Bar &#8211\; Umziehenanschließend:
 Buffet und Jubiläumsparty 15 Jahre M.Jive\n\n\nRahmenprogramm\nJubiläumsparty 15 Jahre M
 .Jive mit\nBuffet (optional)\nNach dem Workshop könnt ihr euch zusätzl
 ich noch für ein leckeres Buffet anmelden (siehe Formular weiter unten
 ). Essen und Musik gibt es ab 18:30  Uhr.\nJubiläumsparty (optional)\n
 \nAb 19:00 Uhr beginnt dann unsere große gemeinsame Jubiläumsparty. Wä
 hrend der Party könnt ihr dann das frisch Gelernte auch gleich auf der
  Tanzfläche ausprobieren. Eintritt 10 € an der Abendkasse oder im Pake
 t (siehe Anmeldeformular unten)\nHier erfahrt ihr mehr über die Party\
 nPreise Workshop und Buffet\nPaket 1: All Inclusive: Workshop + Buffet
  + Party\nPreis: 70 €\n\nPaket 2: Workshop + Buffet (ohne Party)\nPrei
 s: 60 €\n\nPaket 3: Workshop (ohne Buffet / ohne Party)\nPreis: 40 €\n
 \nPaket 4: Buffet + Party\nNormalpreis: 30 €\n\nZahlung: Nach der Anme
 ldung erhaltet ihr eine E-Mail mit den Bankdaten. Bitte überweist den 
 Teilnahmebeitrag zeitnah. Die Teilnahmebestätigung erfolgt nach Zahlun
 gseingang.\n\nBeim Check-In werdet ihr ein farbiges Bändchen bekommen.
 \nAnmeldung\nWir achten bei der Anmeldung für den Workshop auf ein aus
 geglichenes Verhältnis der Rollen (Leader\, Follower). Meldet euch des
 halb möglichst paarweise an\, damit es gut aufgeht. Beim Workshop gibt
  es dann natürlich weiterhin regelmäßig Partnerwechsel - so wie ihr es
  bei uns kennt.\n\nEinzelanmeldungen sind möglich\, diese müssen wir j
 edoch zunächst auf eine Warteliste setzen\, damit wir die Teilnehmer g
 leichmäßig auffüllen können. Tipp: Kommt zum Montags-Tanzabend und spr
 echt euch ab. Ihr könnt auch die Kommentarfunktion auf unserer Faceboo
 k-Seite nutzen\, um Partner zu finden und euch abzusprechen. Kommentar
 e könnt ihr selbst später löschen.\n\nZur Buchung bitte das folgende F
 ormular ausfüllen:\n\nAnmeldung nicht mehr möglich\n\nEin Hinweis zum 
 weiteren Vorgehen: Bitte nicht nervös werden\, wenn nicht gleich eine 
 Bestätigung erfolgt\, zur besseren Übersicht und Verwaltung der Anmeld
 ungen sammeln wir diese zunächst und verarbeiten diese dann in Bündeln
 .
X-ALT-DESC;FMTTYPE=text/html:<p style=text-align: center\;><strong>Tak
 e Your Dance to the Next Level!</strong></p>\n<blockquote class=wp-blo
 ck-quote>\n<h3 class=wp-block-kadence-advancedheading has-theme-palett
 e-1-color has-text-color><span style=color: #00ad75\;>Noch ein paar Wo
 rkshopplätze sind frei!</span></h3>\n<p class=wp-block-kadence-advance
 dheading has-theme-palette-1-color has-text-color><span style=color: #
 00ad75\;>Jetzt noch schnell anmelden.<br>\n</span><span style=color: #
 00ad75\;>Wir achten auf ein ausgeglichenes Verhältnis der Rollen.</spa
 n><br>\n<span style=color: #00ad75\;>Anmeldungen zu Buffet und Party s
 ind unbegrenzt möglich.</span></p>\n<p><a href=#Anmeldung>Direkt zum A
 nmeldeformular</a></p></blockquote>\n<p>M.Jive wird 15 Jahre alt &#821
 1\; das wollen wir auch mit einem Jubiläums-Workshop feiern. Wir plane
 n mehrere Kursblöcke\, die euch dabei helfen werden\, eine bessere Kom
 munikation mit dem Tanzpartner zu entwickeln\, eure Führungs- und Folg
 efähigkeiten zu verbessern und damit noch mehr Freude auf der Tanzfläc
 he zu erleben</p>\n<p>Freut euch auf die folgenden Themen:</p>\n<ul>\n
 <li>Musikalität</li>\n<li>Körperbewusstsein inkl. Spins</li>\n<li>Styl
 ing</li>\n<li>Fusion-Moves</li>\n</ul>\n<p>Grundsätzlich werden wir da
 rauf achten\, dass für jedes Level etwas Neues dabei ist. <strong>Der 
 Workshop ist aber kein Anfängerkurs</strong>. Wer mit Modern Jive und 
 den Grundfiguren noch nicht vertraut ist\, sollte vorher an mehreren <
 a href=https://www.mjive.de/events/#weekly>Montags-Tanzabenden mit Anf
 änger- und Intensivierungsstunde</a> teilgenommen haben.</p>\n<div>\n<
 h3><span style=font-family: inherit\; font-size: 22px\;>Zur Tanzlehrer
 in</span></h3>\n</div>\n<div>\n<p><span class=ContentPasted0 lang=DE>H
 eidi Grillmeier lebt und tanzt seit mehr als 8 Jahren in der Schweiz. 
 Beeinflusst von verschiedenen Stilrichtungen u.a. Disco Swing\, West C
 oast Swing\, Latin und Blues Dance\, unterstützt sie aktiv die Ceroc u
 nd LeRoc Szene in Zürich. Vielen M.Jivern ist sie noch gut bekannt\, d
 enn bis 2015 stand sie auch bei uns in München als Lehrerin auf der Bü
 hne. Wir freuen uns sehr darauf\, dass sie uns nun die neuesten Trends
  in Sachen Tanz und Musik aus der Schweiz mitbringt. Auf dem <a href=h
 ttps://www.jive.berlin/modern-jive-championships/results/>October Danc
 eFest 2023 Berlin</a> hat sie in der Kategorie DWAS (Dance with a Stra
 nger) gewonnen und zusammen mit Olaf den 2. Platz in Advanced belegt. 
 </span></p>\n<h3><span style=font-family: inherit\; font-size: 22px\;>
 Workshop-Zeitplan</span></h3>\n</div>\n<p>\n<figure class=wp-block-tab
 le is-style-stripes><table><tbody><tr><td>13:30 &#8211\; 14:00</td><td
 >Einlass: Umziehen &#8211\; Getränke holen &#8211\; Eintanzen</td></tr
 ><tr><td>14:00 &#8211\; 18:00</td><td>Workshop inkl. Pausen</td></tr><
 tr><td>18:00</td><td>Ende Workshop: Getränke an der Bar &#8211\; Umzie
 hen</td></tr><tr><td>anschließend:</td><td><a href=https://www.mjive.d
 e/event/jubilaeumsparty-15-jahre-mjive/ data-type=link data-id=https:/
 /www.mjive.de/event/jubilaeumsparty-15-jahre-mjive/>Buffet und Jubiläu
 msparty 15 Jahre M.Jive</a></td></tr></tbody></table></figure>\n</p>\n
 <div>\n<h3>Rahmenprogramm</h3>\n<p><a href=https://www.mjive.de/event/
 jubilaeumsparty-15-jahre-mjive/>Jubiläumsparty 15 Jahre M.Jive</a> mit
 </p>\n<h4>Buffet (optional)</h4>\n<p>Nach dem Workshop könnt ihr euch 
 <strong>zusätzlich</strong> noch für ein leckeres <strong>Buffet</stro
 ng> anmelden (siehe Formular weiter unten). Essen und Musik gibt es ab
  18:30  Uhr.</p>\n<h4><span style=font-family: inherit\;>Jubiläumspart
 y (optional)</span></h4>\n</div>\n<p>Ab 19:00 Uhr beginnt dann unsere 
 große gemeinsame <strong>Jubiläumsparty</strong>. Während der Party kö
 nnt ihr dann das frisch Gelernte auch gleich auf der Tanzfläche auspro
 bieren. <strong>Eintritt 10 € an der Abendkasse oder im Paket</strong>
  (siehe Anmeldeformular unten)<br>\n<a style=font-family: var(--global
 -body-font-family)\; href=https://www.mjive.de/event/jubilaeumsparty-1
 5-jahre-mjive/>Hier erfahrt ihr mehr über die Party</a></p>\n<h3>Preis
 e Workshop und Buffet</h3>\n<p><strong>Paket 1: All Inclusive: Worksho
 p + Buffet + Party</strong><br>\nPreis: 70 €</p>\n<p><strong>Paket 2: 
 Workshop + Buffet (ohne Party)</strong><br>\nPreis: 60 €</p>\n<p><stro
 ng>Paket 3: Workshop (ohne Buffet / ohne Party)</strong><br>\nPreis: 4
 0 €</p>\n<p><strong>Paket 4: Buffet + Party<br>\n</strong>Normalpreis:
  30 €</p>\n<p><strong>Zahlung</strong>: Nach der Anmeldung erhaltet ih
 r eine E-Mail mit den Bankdaten. Bitte überweist den Teilnahmebeitrag 
 zeitnah. Die Teilnahmebestätigung erfolgt nach Zahlungseingang.</p>\n<
 p>Beim Check-In werdet ihr ein farbiges <strong>Bändchen</strong> beko
 mmen.</p>\n<h3 id=Anmeldung>Anmeldung</h3>\n<p>Wir achten bei der Anme
 ldung für den Workshop auf ein ausgeglichenes Verhältnis der Rollen (L
 eader\, Follower). Meldet euch deshalb möglichst paarweise an\, damit 
 es gut aufgeht. Beim Workshop gibt es dann natürlich weiterhin regelmä
 ßig Partnerwechsel &#8211\; so wie ihr es bei uns kennt.</p>\n<p>Einze
 lanmeldungen sind möglich\, diese müssen wir jedoch zunächst auf eine 
 Warteliste setzen\, damit wir die Teilnehmer gleichmäßig auffüllen kön
 nen. <strong>Tipp</strong>: Kommt zum <a href=https://www.mjive.de/eve
 nts/#weekly>Montags-Tanzabend</a> und sprecht euch ab. Ihr könnt auch 
 die <a href=https://www.facebook.com/MJiveMunich/>Kommentarfunktion au
 f unserer Facebook-Seite</a> nutzen\, um Partner zu finden und euch ab
 zusprechen. Kommentare könnt ihr selbst später löschen.</p>\n<p>Zur Bu
 chung bitte das folgende Formular ausfüllen:</p>\n<p><em>Anmeldung nic
 ht mehr möglich</em></p>\n<p>Ein Hinweis zum weiteren Vorgehen: Bitte 
 nicht nervös werden\, wenn nicht gleich eine Bestätigung erfolgt\, zur
  besseren Übersicht und Verwaltung der Anmeldungen sammeln wir diese z
 unächst und verarbeiten diese dann in Bündeln.</p>\n
URL:https://www.mjive.de/event/mjive-jubilaeums-workshop-2023/?lang=de
ATTACH:https://www.mjive.de/event/mjive-jubilaeums-workshop-2023/?lang
 =de
ATTACH:https://www.mjive.de/wp-content/uploads/2023/10/DanceFest2023-G
 MJC-Advanced-Olaf-Heidi-Pose-150x150.webp
LOCATION:Tanzschule Klaus Sennebogen\, Karlstr. 44\, München
END:VEVENT
END:VCALENDAR
